BEGIN:VCALENDAR
VERSION:2.0
PRODID:-//KARYA MITRA PUSAKA - ECPv6.5.1.5//NONSGML v1.0//EN
CALSCALE:GREGORIAN
METHOD:PUBLISH
X-ORIGINAL-URL:https://karyamitrapusaka.com
X-WR-CALDESC:Events for KARYA MITRA PUSAKA
REFRESH-INTERVAL;VALUE=DURATION:PT1H
X-Robots-Tag:noindex
X-PUBLISHED-TTL:PT1H
BEGIN:VTIMEZONE
TZID:UTC
BEGIN:STANDARD
TZOFFSETFROM:+0000
TZOFFSETTO:+0000
TZNAME:UTC
DTSTART:20240101T000000
END:STANDARD
END:VTIMEZONE
BEGIN:VEVENT
DTSTART;TZID=UTC:20240829T130000
DTEND;TZID=UTC:20240829T170000
DTSTAMP:20260420T200133
CREATED:20240629T002717Z
LAST-MODIFIED:20240629T002717Z
UID:109-1724936400-1724950800@karyamitrapusaka.com
SUMMARY:Green Thumb Gathering: Community Gardening Day
DESCRIPTION:Dive into the world of gardening with our Green Thumb Gathering! Whether you’re a seasoned gardener or just getting started\, this community event invites you to learn\, share\, and grow. Participate in workshops on sustainable gardening practices\, plant swaps\, and a community garden project that aims to beautify our neighborhood. It’s a great opportunity to connect with fellow gardening enthusiasts and contribute to a greener\, more sustainable community.
URL:https://karyamitrapusaka.com/event/green-thumb-gathering-community-gardening-day/
LOCATION:Harmony Park\, 112 Main St\, Missoula\, Montana\, United States
CATEGORIES:Community
ATTACH;FMTTYPE=image/jpeg:https://karyamitrapusaka.com/wp-content/uploads/2024/06/waiter-standing-at-food-truck-counter-with.jpeg
ORGANIZER;CN="Community Outreach":MAILTO:info@communityoutreach.org
END:VEVENT
END:VCALENDAR